BEGIN:VCALENDAR
VERSION:2.0
PRODID:SchoolNow
CALSCALE:GREGORIAN
BEGIN:VEVENT
UID:b50493f6-1618-11f0-a20a-0a58a9feac02
DTSTAMP:20250410T143302Z
SUMMARY:Denim Day: No Excuse for Sexual Assault!
URL;VALUE=URI:https://www.ladelta.edu/about-us/calendar/7893353/denim-day-n
 o-excuse-for-sexual-assault
DTSTART:20250415T130000Z
DTEND:20250415T213000Z
END:VEVENT
END:VCALENDAR
