BEGIN:VCALENDAR
VERSION:2.0
PRODID:SchoolNow
CALSCALE:GREGORIAN
BEGIN:VEVENT
UID:8eb9106a-1ba3-11f0-a14e-0e616df63291
DTSTAMP:20250421T195059Z
SUMMARY:Cap Adornment at All Campuses
URL;VALUE=URI:https://www.ladelta.edu/about-us/calendar/7945971/cap-adornme
 nt-at-all-campuses
DTSTART:20250429T160000Z
DTEND:20250429T180000Z
END:VEVENT
END:VCALENDAR
