BEGIN:VCALENDAR
VERSION:2.0
PRODID:SchoolNow
CALSCALE:GREGORIAN
BEGIN:VEVENT
UID:a9d76cf0-a3d5-11ec-b47b-0264954a423d
DTSTAMP:20220314T203101Z
SUMMARY:Press Conference - MJ Foster Promise
LOCATION:7500 Millhaven Road Monroe\, LA 71203 - ATC Community Auditorium
URL;VALUE=URI:https://www.ladelta.edu/about-us/community-public-relations/c
 alendar/3132962/press-conference-mj-foster-promise
DTSTART:20220325T140000Z
DTEND:20220325T150000Z
END:VEVENT
END:VCALENDAR
