BEGIN:VCALENDAR
VERSION:2.0
PRODID:SchoolNow
CALSCALE:GREGORIAN
BEGIN:VEVENT
UID:e5393620-383c-11f1-a16a-0affe2074dff
DTSTAMP:20260415T133134Z
SUMMARY:Sexual Assault Awareness Denim Day Fashion Show
LOCATION:LPB – Commons Area (Monroe Campus)
URL;VALUE=URI:https://www.ladelta.edu/about-us/community-public-relations/c
 alendar/8993975/sexual-assault-awareness-denim-day-fashion-show
DTSTART:20260415T160000Z
DTEND:20260415T170000Z
END:VEVENT
END:VCALENDAR
