BEGIN:VCALENDAR
VERSION:2.0
PRODID:SchoolNow
CALSCALE:GREGORIAN
BEGIN:VEVENT
UID:57cb953e-4fa4-11eb-9a0a-0ead2d2d0959
DTSTAMP:20210105T222317Z
SUMMARY:Advising & Registration Day on the Monroe Campus
LOCATION:7500 Millhaven Road Monroe\, LA
URL;VALUE=URI:https://www.ladelta.edu/academics/calendar/2520296/advising-r
 egistration-day
DTSTART:20210109T150000Z
DTEND:20210109T180000Z
END:VEVENT
END:VCALENDAR
