BEGIN:VCALENDAR
VERSION:2.0
PRODID:SchoolNow
CALSCALE:GREGORIAN
BEGIN:VEVENT
UID:f18f6cc6-568f-11f0-b17e-0a58a9feac02
DTSTAMP:20250701T152922Z
SUMMARY:Classes Begin for Fall Semester
URL;VALUE=URI:https://www.ladelta.edu/academics/calendar/8373724/classes-be
 gin-for-fall-semester
DTSTART;VALUE=DATE:20250818
DTEND;VALUE=DATE:20250819
END:VEVENT
END:VCALENDAR
