BEGIN:VCALENDAR
VERSION:2.0
PRODID:SchoolNow
CALSCALE:GREGORIAN
BEGIN:VEVENT
UID:d3f33bcc-5692-11f0-b523-0a58a9feac02
DTSTAMP:20250701T154826Z
SUMMARY:Fall 2025- Last Day to Drop with No "W" Grade for Full Term and 1st
  8-Week Courses by 12:00 PM
URL;VALUE=URI:https://www.ladelta.edu/academics/calendar/8373728/fall-2025-
 last-day-to-drop-with-no-w-grade-for-full-term-and-1st-8-week-courses-by-1
 2-00-pm
DTSTART;VALUE=DATE:20250821
DTEND;VALUE=DATE:20250822
END:VEVENT
END:VCALENDAR
