BEGIN:VCALENDAR
VERSION:2.0
PRODID:SchoolNow
CALSCALE:GREGORIAN
BEGIN:VEVENT
UID:5a837f82-2878-11f1-8a0b-0a58a9feac02
DTSTAMP:20260325T182800Z
SUMMARY:Spring 2026 - Last Day to Drop with Grade of "W" (2nd Half Term)
URL;VALUE=URI:https://www.ladelta.edu/academics/calendar/8945427/spring-202
 6-last-day-to-drop-with-grade-of-w-2nd-half-term
DTSTART;VALUE=DATE:20260428
DTEND;VALUE=DATE:20260429
END:VEVENT
END:VCALENDAR
