BEGIN:VCALENDAR
VERSION:2.0
PRODID:SchoolNow
CALSCALE:GREGORIAN
BEGIN:VEVENT
UID:7370484e-2879-11f1-b8ef-02cb2094fa1d
DTSTAMP:20260325T183551Z
SUMMARY:Spring 2026 - Final Exams (Full Term)
URL;VALUE=URI:https://www.ladelta.edu/academics/calendar/8945430/spring-202
 6-final-exams-full-term
DTSTART;VALUE=DATE:20260504
DTEND;VALUE=DATE:20260509
END:VEVENT
END:VCALENDAR
