BEGIN:VCALENDAR
VERSION:2.0
PRODID:SchoolNow
CALSCALE:GREGORIAN
BEGIN:VEVENT
UID:9bf1ea5c-2879-11f1-a103-0afff963552b
DTSTAMP:20260325T183659Z
SUMMARY:Spring 2026 Final Exams (2nd Half Term)
URL;VALUE=URI:https://www.ladelta.edu/academics/calendar/8945431/spring-202
 6-final-exams-2nd-half-term
DTSTART;VALUE=DATE:20260508
DTEND;VALUE=DATE:20260509
END:VEVENT
END:VCALENDAR
