BEGIN:VCALENDAR
VERSION:2.0
PRODID:SchoolNow
CALSCALE:GREGORIAN
BEGIN:VEVENT
UID:899c8d06-3f50-11f1-902e-0a58a9feac02
DTSTAMP:20260423T201056Z
SUMMARY:Summer & Fall 2026 Commencement
URL;VALUE=URI:https://www.ladelta.edu/academics/calendar/9013982/summer-fal
 l-2026-commencement
DTSTART;VALUE=DATE:20261214
DTEND;VALUE=DATE:20261215
END:VEVENT
END:VCALENDAR
