BEGIN:VCALENDAR
VERSION:2.0
PRODID:SchoolNow
CALSCALE:GREGORIAN
BEGIN:VEVENT
UID:3c34c398-3f51-11f1-b6e9-0affedc27465
DTSTAMP:20260423T201556Z
SUMMARY:Unofficial Withdrawal Review
URL;VALUE=URI:https://www.ladelta.edu/academics/calendar/9013983/unofficial
 -withdrawal-review
DTSTART;VALUE=DATE:20261214
DTEND;VALUE=DATE:20261215
END:VEVENT
END:VCALENDAR
