BEGIN:VCALENDAR
VERSION:2.0
PRODID:SchoolNow
CALSCALE:GREGORIAN
BEGIN:VEVENT
UID:c847103e-3f51-11f1-b29a-027119caed33
DTSTAMP:20260423T201951Z
SUMMARY:SAP Review
URL;VALUE=URI:https://www.ladelta.edu/academics/calendar/9013984/sap-review
DTSTART;VALUE=DATE:20261214
DTEND;VALUE=DATE:20261215
END:VEVENT
END:VCALENDAR
