BEGIN:VCALENDAR
VERSION:2.0
PRODID:SchoolNow
CALSCALE:GREGORIAN
BEGIN:VEVENT
UID:0cd8d336-3f52-11f1-b4a4-027aefbfc9c7
DTSTAMP:20260423T202146Z
SUMMARY:Fall 2026 Degree Award Date
URL;VALUE=URI:https://www.ladelta.edu/academics/calendar/9013989/fall-2026-
 degree-award-date
DTSTART;VALUE=DATE:20261211
DTEND;VALUE=DATE:20261212
END:VEVENT
END:VCALENDAR
