BEGIN:VCALENDAR
VERSION:2.0
PRODID:SchoolNow
CALSCALE:GREGORIAN
BEGIN:VEVENT
UID:5fe23496-3f52-11f1-a2bb-0affe9afb099
DTSTAMP:20260423T202405Z
SUMMARY:Fall 2026 Faculty Development
URL;VALUE=URI:https://www.ladelta.edu/academics/calendar/9013990/fall-2026-
 faculty-development
DTSTART;VALUE=DATE:20261208
DTEND;VALUE=DATE:20261216
END:VEVENT
END:VCALENDAR
