BEGIN:VCALENDAR
VERSION:2.0
PRODID:SchoolNow
CALSCALE:GREGORIAN
BEGIN:VEVENT
UID:2a7c02b2-3f54-11f1-a996-0a58a9feac02
DTSTAMP:20260423T203654Z
SUMMARY:Fall 2026 Final Exams (Full Term)
URL;VALUE=URI:https://www.ladelta.edu/academics/calendar/9013996/fall-2026-
 final-exams-full-term
DTSTART;VALUE=DATE:20261130
DTEND;VALUE=DATE:20261205
END:VEVENT
END:VCALENDAR
