BEGIN:VCALENDAR
VERSION:2.0
PRODID:SchoolNow
CALSCALE:GREGORIAN
BEGIN:VEVENT
UID:a5afc78e-3f54-11f1-a78a-0affedc27465
DTSTAMP:20260423T204021Z
SUMMARY:Fall 2026 Final Exams (2nd Half Term)
URL;VALUE=URI:https://www.ladelta.edu/academics/calendar/9013999/fall-2026-
 final-exams-2nd-half-term
DTSTART;VALUE=DATE:20261204
DTEND;VALUE=DATE:20261205
END:VEVENT
END:VCALENDAR
