BEGIN:VCALENDAR
VERSION:2.0
PRODID:SchoolNow
CALSCALE:GREGORIAN
BEGIN:VEVENT
UID:ff26166a-3f7c-11f1-b466-0a58a9feac02
DTSTAMP:20260424T012911Z
SUMMARY:Spring 2027 - Winter Term Classes Begin
URL;VALUE=URI:https://www.ladelta.edu/academics/calendar/9014656/spring-202
 7-winter-term-classes-begin
DTSTART;VALUE=DATE:20261208
DTEND;VALUE=DATE:20261209
END:VEVENT
END:VCALENDAR
