BEGIN:VCALENDAR
VERSION:2.0
PRODID:SchoolNow
CALSCALE:GREGORIAN
BEGIN:VEVENT
UID:54f7433e-3f7d-11f1-b512-0a58a9feac02
DTSTAMP:20260424T013135Z
SUMMARY:Full Term & 1st Half Term Classes Begin (Spring 2027)
URL;VALUE=URI:https://www.ladelta.edu/academics/calendar/9014657/full-term-
 1st-half-term-classes-begin-spring-2027
DTSTART;VALUE=DATE:20270111
DTEND;VALUE=DATE:20270112
END:VEVENT
END:VCALENDAR
