BEGIN:VCALENDAR
VERSION:2.0
PRODID:SchoolNow
CALSCALE:GREGORIAN
BEGIN:VEVENT
UID:9532f39e-3f7d-11f1-812c-0e91c1895723
DTSTAMP:20260424T013323Z
SUMMARY:2nd Half Term Classes Begins (Spring 2027)
URL;VALUE=URI:https://www.ladelta.edu/academics/calendar/9014658/2nd-half-t
 erm-classes-begins-spring-2027
DTSTART;VALUE=DATE:20270308
DTEND;VALUE=DATE:20270309
END:VEVENT
END:VCALENDAR
