BEGIN:VCALENDAR
VERSION:2.0
PRODID:SchoolNow
CALSCALE:GREGORIAN
BEGIN:VEVENT
UID:d8c72fe4-3f7d-11f1-aa11-0a58a9feac02
DTSTAMP:20260424T013516Z
SUMMARY:Last Day to Add/Drop w/ no "W" by 12 PM (Winter Term)
URL;VALUE=URI:https://www.ladelta.edu/academics/calendar/9014659/last-day-t
 o-add-drop-w-no-w-by-12-pm-winter-term
DTSTART;VALUE=DATE:20261210
DTEND;VALUE=DATE:20261211
END:VEVENT
END:VCALENDAR
