BEGIN:VCALENDAR
VERSION:2.0
PRODID:SchoolNow
CALSCALE:GREGORIAN
BEGIN:VEVENT
UID:0df2923a-3f7e-11f1-84df-0a58a9feac02
DTSTAMP:20260424T013645Z
SUMMARY:Last Day to Add/Drop w/ no "W" by 12 PM (Full Term & 1st Half Term)
URL;VALUE=URI:https://www.ladelta.edu/academics/calendar/9014660/last-day-t
 o-add-drop-w-no-w-by-12-pm-full-term-1st-half-term
DTSTART;VALUE=DATE:20270114
DTEND;VALUE=DATE:20270115
END:VEVENT
END:VCALENDAR
