BEGIN:VCALENDAR
VERSION:2.0
PRODID:SchoolNow
CALSCALE:GREGORIAN
BEGIN:VEVENT
UID:6d36bb04-3f7e-11f1-b7fd-0a58a9feac02
DTSTAMP:20260424T013925Z
SUMMARY:Last Day to Add/Drop w/ no "W" by 12 PM (2nd Half Term)
URL;VALUE=URI:https://www.ladelta.edu/academics/calendar/9014661/last-day-t
 o-add-drop-w-no-w-by-12-pm-2nd-half-term
DTSTART;VALUE=DATE:20270311
DTEND;VALUE=DATE:20270312
END:VEVENT
END:VCALENDAR
