BEGIN:VCALENDAR
VERSION:2.0
PRODID:SchoolNow
CALSCALE:GREGORIAN
BEGIN:VEVENT
UID:6cf5fa1e-3f7f-11f1-a1a2-0e932a0c6f13
DTSTAMP:20260424T014634Z
SUMMARY:Last Day to Drop with Grade of “W” by 11:59 PM (Winter Term)
URL;VALUE=URI:https://www.ladelta.edu/academics/calendar/9014662/last-day-t
 o-drop-with-grade-of-w-by-11-59-pm-winter-term
DTSTART;VALUE=DATE:20270104
DTEND;VALUE=DATE:20270105
END:VEVENT
END:VCALENDAR
