BEGIN:VCALENDAR
VERSION:2.0
PRODID:SchoolNow
CALSCALE:GREGORIAN
BEGIN:VEVENT
UID:d2f731ca-3f7f-11f1-846e-02dc31e1ac9f
DTSTAMP:20260424T014925Z
SUMMARY:Last Day to Drop with Grade of “W” by 11:59 PM (Full Term)
URL;VALUE=URI:https://www.ladelta.edu/academics/calendar/9014663/last-day-t
 o-drop-with-grade-of-w-by-11-59-pm-full-term
DTSTART;VALUE=DATE:20270407
DTEND;VALUE=DATE:20270408
END:VEVENT
END:VCALENDAR
