BEGIN:VCALENDAR
VERSION:2.0
PRODID:SchoolNow
CALSCALE:GREGORIAN
BEGIN:VEVENT
UID:01fcf6e4-3f80-11f1-9dac-0a58a9feac02
DTSTAMP:20260424T015044Z
SUMMARY:Last Day to Drop with Grade of “W” by 11:59 PM (1st Half Term)
URL;VALUE=URI:https://www.ladelta.edu/academics/calendar/9014664/last-day-t
 o-drop-with-grade-of-w-by-11-59-pm-1st-half-term
DTSTART;VALUE=DATE:20270223
DTEND;VALUE=DATE:20270224
END:VEVENT
END:VCALENDAR
