BEGIN:VCALENDAR
VERSION:2.0
PRODID:SchoolNow
CALSCALE:GREGORIAN
BEGIN:VEVENT
UID:90510016-3f80-11f1-be57-0a58a9feac02
DTSTAMP:20260424T015443Z
SUMMARY:Last Day to Drop with Grade of “W” by 11:59 PM (2nd Half Term)
URL;VALUE=URI:https://www.ladelta.edu/academics/calendar/9014665/last-day-t
 o-drop-with-grade-of-w-by-11-59-pm-2nd-half-term
DTSTART;VALUE=DATE:20270419
DTEND;VALUE=DATE:20270420
END:VEVENT
END:VCALENDAR
