BEGIN:VCALENDAR
VERSION:2.0
PRODID:SchoolNow
CALSCALE:GREGORIAN
BEGIN:VEVENT
UID:e4007246-3f80-11f1-be39-02dc31e1ac9f
DTSTAMP:20260424T015703Z
SUMMARY:Spring 2027 Final Exams (Winter Term)
URL;VALUE=URI:https://www.ladelta.edu/academics/calendar/9014666/spring-202
 7-final-exams-winter-term
DTSTART;VALUE=DATE:20270107
DTEND;VALUE=DATE:20270108
END:VEVENT
END:VCALENDAR
