BEGIN:VCALENDAR
VERSION:2.0
PRODID:SchoolNow
CALSCALE:GREGORIAN
BEGIN:VEVENT
UID:12effefa-3f81-11f1-8733-0a58a9feac02
DTSTAMP:20260424T015822Z
SUMMARY:Spring 2027 Final Exams (1st Half Term)
URL;VALUE=URI:https://www.ladelta.edu/academics/calendar/9014667/spring-202
 7-final-exams-1st-half-term
DTSTART;VALUE=DATE:20270304
DTEND;VALUE=DATE:20270305
END:VEVENT
END:VCALENDAR
