BEGIN:VCALENDAR
VERSION:2.0
PRODID:SchoolNow
CALSCALE:GREGORIAN
BEGIN:VEVENT
UID:2fb023ee-3f81-11f1-8d45-0a58a9feac02
DTSTAMP:20260424T015910Z
SUMMARY:Spring 2027 Final Exams (Full Term)
URL;VALUE=URI:https://www.ladelta.edu/academics/calendar/9014668/spring-202
 7-final-exams-full-term
DTSTART;VALUE=DATE:20270503
DTEND;VALUE=DATE:20270508
END:VEVENT
END:VCALENDAR
