BEGIN:VCALENDAR
VERSION:2.0
PRODID:SchoolNow
CALSCALE:GREGORIAN
BEGIN:VEVENT
UID:4f5c7bf2-3f81-11f1-bbe1-02db5620d689
DTSTAMP:20260424T020004Z
SUMMARY:Spring 2027 Final Exams (2nd Half Term)
URL;VALUE=URI:https://www.ladelta.edu/academics/calendar/9014669/spring-202
 7-final-exams-2nd-half-term
DTSTART;VALUE=DATE:20270507
DTEND;VALUE=DATE:20270508
END:VEVENT
END:VCALENDAR
