BEGIN:VCALENDAR
VERSION:2.0
PRODID:SchoolNow
CALSCALE:GREGORIAN
BEGIN:VEVENT
UID:6ba40bb8-3f81-11f1-bf1b-0a58a9feac02
DTSTAMP:20260424T020051Z
SUMMARY:Degree Award Date
URL;VALUE=URI:https://www.ladelta.edu/academics/calendar/9014670/degree-awa
 rd-date
DTSTART;VALUE=DATE:20270514
DTEND;VALUE=DATE:20270515
END:VEVENT
END:VCALENDAR
