BEGIN:VCALENDAR
VERSION:2.0
PRODID:SchoolNow
CALSCALE:GREGORIAN
BEGIN:VEVENT
UID:90d972e2-3f81-11f1-8c2c-0a58a9feac02
DTSTAMP:20260424T020153Z
SUMMARY:Spring 2027 Commencement
URL;VALUE=URI:https://www.ladelta.edu/academics/calendar/9014671/spring-202
 7-commencement
DTSTART;VALUE=DATE:20270517
DTEND;VALUE=DATE:20270518
END:VEVENT
END:VCALENDAR
