BEGIN:VCALENDAR
VERSION:2.0
PRODID:SchoolNow
CALSCALE:GREGORIAN
BEGIN:VEVENT
UID:ebf63052-3f81-11f1-b699-0affe9afb099
DTSTAMP:20260424T020426Z
SUMMARY:Christmas/Winter Break (Campus Closure)
URL;VALUE=URI:https://www.ladelta.edu/academics/calendar/9014672/christmas-
 winter-break-campus-closure
DTSTART;VALUE=DATE:20261224
DTEND;VALUE=DATE:20270101
END:VEVENT
END:VCALENDAR
