BEGIN:VCALENDAR
VERSION:2.0
PRODID:SchoolNow
CALSCALE:GREGORIAN
BEGIN:VEVENT
UID:21b8d640-3f82-11f1-8b67-0affedc27465
DTSTAMP:20260424T020556Z
SUMMARY:New Year's Day (Campus Closure)
URL;VALUE=URI:https://www.ladelta.edu/academics/calendar/9014673/new-years-
 day-campus-closure
DTSTART;VALUE=DATE:20270101
DTEND;VALUE=DATE:20270102
END:VEVENT
END:VCALENDAR
