BEGIN:VCALENDAR
VERSION:2.0
PRODID:SchoolNow
CALSCALE:GREGORIAN
BEGIN:VEVENT
UID:46ab7f02-3f82-11f1-b721-0e9d689743b1
DTSTAMP:20260424T020658Z
SUMMARY:Martin Luther King Jr. Day (Campus Closure)
URL;VALUE=URI:https://www.ladelta.edu/academics/calendar/9014674/martin-lut
 her-king-jr-day-campus-closure
DTSTART;VALUE=DATE:20270118
DTEND;VALUE=DATE:20270119
END:VEVENT
END:VCALENDAR
