BEGIN:VCALENDAR
VERSION:2.0
PRODID:SchoolNow
CALSCALE:GREGORIAN
BEGIN:VEVENT
UID:61df9cc2-3f82-11f1-be1e-0eb6836474f1
DTSTAMP:20260424T020744Z
SUMMARY:Mardi Gras Break
URL;VALUE=URI:https://www.ladelta.edu/academics/calendar/9014675/mardi-gras
 -break
DTSTART;VALUE=DATE:20270208
DTEND;VALUE=DATE:20270210
END:VEVENT
END:VCALENDAR
