BEGIN:VCALENDAR
VERSION:2.0
PRODID:SchoolNow
CALSCALE:GREGORIAN
BEGIN:VEVENT
UID:7cea99cc-3f82-11f1-b36a-0e9d689743b1
DTSTAMP:20260424T020829Z
SUMMARY:Spring Break
URL;VALUE=URI:https://www.ladelta.edu/academics/calendar/9014676/spring-bre
 ak
DTSTART;VALUE=DATE:20270322
DTEND;VALUE=DATE:20270327
END:VEVENT
END:VCALENDAR
