BEGIN:VCALENDAR
VERSION:2.0
PRODID:SchoolNow
CALSCALE:GREGORIAN
BEGIN:VEVENT
UID:9825dfa8-3f82-11f1-999f-027119caed33
DTSTAMP:20260424T020915Z
SUMMARY:Easter Break (Campus Closure)
URL;VALUE=URI:https://www.ladelta.edu/academics/calendar/9014677/easter-bre
 ak-campus-closure
DTSTART;VALUE=DATE:20270326
DTEND;VALUE=DATE:20270327
END:VEVENT
END:VCALENDAR
