BEGIN:VCALENDAR
VERSION:2.0
PRODID:SchoolNow
CALSCALE:GREGORIAN
BEGIN:VEVENT
UID:a459434a-3f83-11f1-8d35-02db5620d689
DTSTAMP:20260424T021645Z
SUMMARY:Extended Summer Classes Begin (Summer 2027)
URL;VALUE=URI:https://www.ladelta.edu/academics/calendar/9014680/extended-s
 ummer-classes-begin-summer-2027
DTSTART;VALUE=DATE:20270518
DTEND;VALUE=DATE:20270519
END:VEVENT
END:VCALENDAR
