BEGIN:VCALENDAR
VERSION:2.0
PRODID:SchoolNow
CALSCALE:GREGORIAN
BEGIN:VEVENT
UID:c1dc9ed0-3f83-11f1-a52a-0a58a9feac02
DTSTAMP:20260424T021735Z
SUMMARY:Full Term & Summer I Classes Begin (Summer 2027)
URL;VALUE=URI:https://www.ladelta.edu/academics/calendar/9014681/full-term-
 summer-i-classes-begin-summer-2027
DTSTART;VALUE=DATE:20270601
DTEND;VALUE=DATE:20270602
END:VEVENT
END:VCALENDAR
