BEGIN:VCALENDAR
VERSION:2.0
PRODID:SchoolNow
CALSCALE:GREGORIAN
BEGIN:VEVENT
UID:eb8457dc-3f83-11f1-b552-0affedc27465
DTSTAMP:20260424T021844Z
SUMMARY:Summer II Classes Begin (Summer 2027)
URL;VALUE=URI:https://www.ladelta.edu/academics/calendar/9014682/summer-ii-
 classes-begin-summer-2027
DTSTART;VALUE=DATE:20270705
DTEND;VALUE=DATE:20270706
END:VEVENT
END:VCALENDAR
