BEGIN:VCALENDAR
VERSION:2.0
PRODID:SchoolNow
CALSCALE:GREGORIAN
BEGIN:VEVENT
UID:1a79070e-3f84-11f1-9919-0a58a9feac02
DTSTAMP:20260424T022003Z
SUMMARY:Last Day to Add/Drop w/ no "W" by 12 PM (Extended Summer)
URL;VALUE=URI:https://www.ladelta.edu/academics/calendar/9014683/last-day-t
 o-add-drop-w-no-w-by-12-pm-extended-summer
DTSTART;VALUE=DATE:20270520
DTEND;VALUE=DATE:20270521
END:VEVENT
END:VCALENDAR
