BEGIN:VCALENDAR
VERSION:2.0
PRODID:SchoolNow
CALSCALE:GREGORIAN
BEGIN:VEVENT
UID:a744ba52-3f84-11f1-b121-02c983a1ab1b
DTSTAMP:20260424T022359Z
SUMMARY:Last Day to Add/Drop w/ no "W" by 12 PM (Full Term & Summer I)
URL;VALUE=URI:https://www.ladelta.edu/academics/calendar/9014685/last-day-t
 o-add-drop-w-no-w-by-12-pm-full-term-summer-i
DTSTART;VALUE=DATE:20270603
DTEND;VALUE=DATE:20270604
END:VEVENT
END:VCALENDAR
