BEGIN:VCALENDAR
VERSION:2.0
PRODID:SchoolNow
CALSCALE:GREGORIAN
BEGIN:VEVENT
UID:d5d4470c-3f84-11f1-a91c-0a58a9feac02
DTSTAMP:20260424T022518Z
SUMMARY:Last Day to Add/Drop w/ no "W" by 12 PM (Summer II)
URL;VALUE=URI:https://www.ladelta.edu/academics/calendar/9014691/last-day-t
 o-add-drop-w-no-w-by-12-pm-summer-ii
DTSTART;VALUE=DATE:20270708
DTEND;VALUE=DATE:20270709
END:VEVENT
END:VCALENDAR
