BEGIN:VCALENDAR
VERSION:2.0
PRODID:SchoolNow
CALSCALE:GREGORIAN
BEGIN:VEVENT
UID:1374672c-3f85-11f1-9e52-027aefbfc9c7
DTSTAMP:20260424T022701Z
SUMMARY:Last Day to Drop with Grade of “W” by 11:59 PM (Summer I)
URL;VALUE=URI:https://www.ladelta.edu/academics/calendar/9014692/last-day-t
 o-drop-with-grade-of-w-by-11-59-pm-summer-i
DTSTART;VALUE=DATE:20270621
DTEND;VALUE=DATE:20270622
END:VEVENT
END:VCALENDAR
