BEGIN:VCALENDAR
VERSION:2.0
PRODID:SchoolNow
CALSCALE:GREGORIAN
BEGIN:VEVENT
UID:6cabd2e4-3f85-11f1-8c60-0e24d14bd5ad
DTSTAMP:20260424T022931Z
SUMMARY:Last Day to Drop with Grade of “W” by 11:59 PM (Extended Summer
 )
URL;VALUE=URI:https://www.ladelta.edu/academics/calendar/9014693/last-day-t
 o-drop-with-grade-of-w-by-11-59-pm-extended-summer
DTSTART;VALUE=DATE:20270714
DTEND;VALUE=DATE:20270715
END:VEVENT
END:VCALENDAR
