BEGIN:VCALENDAR
VERSION:2.0
PRODID:SchoolNow
CALSCALE:GREGORIAN
BEGIN:VEVENT
UID:8a57f106-3f85-11f1-995c-0affe9afb099
DTSTAMP:20260424T023020Z
SUMMARY:Last Day to Drop with Grade of “W” by 11:59 PM (Full Term)
URL;VALUE=URI:https://www.ladelta.edu/academics/calendar/9014694/last-day-t
 o-drop-with-grade-of-w-by-11-59-pm-full-term
DTSTART;VALUE=DATE:20270719
DTEND;VALUE=DATE:20270720
END:VEVENT
END:VCALENDAR
