BEGIN:VCALENDAR
VERSION:2.0
PRODID:SchoolNow
CALSCALE:GREGORIAN
BEGIN:VEVENT
UID:afcd6772-3f85-11f1-8581-0e24d14bd5ad
DTSTAMP:20260424T023123Z
SUMMARY:Last Day to Drop with Grade of “W” by 11:59 PM (Summer II)
URL;VALUE=URI:https://www.ladelta.edu/academics/calendar/9014695/last-day-t
 o-drop-with-grade-of-w-by-11-59-pm-summer-ii
DTSTART;VALUE=DATE:20270726
DTEND;VALUE=DATE:20270727
END:VEVENT
END:VCALENDAR
