BEGIN:VCALENDAR
VERSION:2.0
PRODID:SchoolNow
CALSCALE:GREGORIAN
BEGIN:VEVENT
UID:fc857cb2-3f85-11f1-afbc-0a58a9feac02
DTSTAMP:20260424T023332Z
SUMMARY:Summer 2027 Final Exams (Summer I)
URL;VALUE=URI:https://www.ladelta.edu/academics/calendar/9014696/summer-202
 7-final-exams-summer-i
DTSTART;VALUE=DATE:20270624
DTEND;VALUE=DATE:20270625
END:VEVENT
END:VCALENDAR
